BEGIN:VCALENDAR
VERSION:2.0
PRODID:-//wp-events-plugin.com//7.2.3.1//EN
TZID:Europe/Berlin
X-WR-TIMEZONE:Europe/Berlin
BEGIN:VEVENT
UID:96@mk-werdau.de
DTSTART;TZID=Europe/Berlin:20261107T150000
DTEND;TZID=Europe/Berlin:20261107T180000
DTSTAMP:20260307T194405Z
URL:https://www.mk-werdau.de/events/jahreshauptversammlung/
SUMMARY:Jahreshauptversammlung
DESCRIPTION:
LOCATION:Marinekameradschaft Werdau e. V.\, Kleinbernsdorfer Straße 8a\, W
 erdau OT Langenhessen\, Sachsen\, 08412\, Deutschland
X-APPLE-STRUCTURED-LOCATION;VALUE=URI;X-ADDRESS=Kleinbernsdorfer Straße 8a
 \, Werdau OT Langenhessen\, Sachsen\, 08412\, Deutschland;X-APPLE-RADIUS=1
 00;X-TITLE=Marinekameradschaft Werdau e. V.:geo:0,0
END:VEVENT
BEGIN:VTIMEZONE
TZID:Europe/Berlin
X-LIC-LOCATION:Europe/Berlin
BEGIN:STANDARD
DTSTART:20261025T020000
TZOFFSETFROM:+0200
TZOFFSETTO:+0100
TZNAME:CET
END:STANDARD
END:VTIMEZONE
END:VCALENDAR