BEGIN:VCALENDAR
VERSION:2.0
PRODID:-//wp-events-plugin.com//7.2.3.1//EN
TZID:Europe/Berlin
X-WR-TIMEZONE:Europe/Berlin
BEGIN:VEVENT
UID:91@mk-werdau.de
DTSTART;TZID=Europe/Berlin:20260425T000000
DTEND;TZID=Europe/Berlin:20260426T235900
DTSTAMP:20260307T193617Z
URL:https://www.mk-werdau.de/events/regatta-ralf-reuther-cup/
SUMMARY:1. Sächsischer Pokal »Ralf-Reuther-Cup«
DESCRIPTION:
CATEGORIES:Wettkampf
LOCATION:Marinekameradschaft Werdau e. V.\, Kleinbernsdorfer Straße 8a\, W
 erdau OT Langenhessen\, Sachsen\, 08412\, Deutschland
X-APPLE-STRUCTURED-LOCATION;VALUE=URI;X-ADDRESS=Kleinbernsdorfer Straße 8a
 \, Werdau OT Langenhessen\, Sachsen\, 08412\, Deutschland;X-APPLE-RADIUS=1
 00;X-TITLE=Marinekameradschaft Werdau e. V.:geo:0,0
END:VEVENT
BEGIN:VTIMEZONE
TZID:Europe/Berlin
X-LIC-LOCATION:Europe/Berlin
BEGIN:DAYLIGHT
DTSTART:20260329T030000
TZOFFSETFROM:+0100
TZOFFSETTO:+0200
TZNAME:CEST
END:DAYLIGHT
END:VTIMEZONE
END:VCALENDAR