BEGIN:VCALENDAR
VERSION:2.0
PRODID:-//wp-events-plugin.com//7.2.3.1//EN
TZID:Europe/Berlin
X-WR-TIMEZONE:Europe/Berlin
BEGIN:VEVENT
UID:100@mk-werdau.de
DTSTART;TZID=Europe/Berlin:20260501T000000
DTEND;TZID=Europe/Berlin:20260503T000000
DTSTAMP:20260307T195218Z
URL:https://www.mk-werdau.de/events/thueringer-opti-cup/
SUMMARY:Thüringer Opti-Cup
DESCRIPTION:
LOCATION:Alperstedter See\, Am Alperstedter See\, Erfurt\, 99195\, Deutschl
 and
X-APPLE-STRUCTURED-LOCATION;VALUE=URI;X-ADDRESS=Am Alperstedter See\, Erfur
 t\, 99195\, Deutschland;X-APPLE-RADIUS=100;X-TITLE=Alperstedter See:geo:0,
 0
END:VEVENT
BEGIN:VTIMEZONE
TZID:Europe/Berlin
X-LIC-LOCATION:Europe/Berlin
BEGIN:DAYLIGHT
DTSTART:20260329T030000
TZOFFSETFROM:+0100
TZOFFSETTO:+0200
TZNAME:CEST
END:DAYLIGHT
END:VTIMEZONE
END:VCALENDAR